BEGIN:VCALENDAR
VERSION:2.0
PRODID:-//CAL Solutions - ECPv6.15.20//NONSGML v1.0//EN
CALSCALE:GREGORIAN
METHOD:PUBLISH
X-WR-CALNAME:CAL Solutions
X-ORIGINAL-URL:https://solutions.cal.org
X-WR-CALDESC:Events for CAL Solutions
REFRESH-INTERVAL;VALUE=DURATION:PT1H
X-Robots-Tag:noindex
X-PUBLISHED-TTL:PT1H
BEGIN:VTIMEZONE
TZID:UTC
BEGIN:STANDARD
TZOFFSETFROM:+0000
TZOFFSETTO:+0000
TZNAME:UTC
DTSTART:20220101T000000
END:STANDARD
END:VTIMEZONE
BEGIN:VEVENT
DTSTART;VALUE=DATE:20231002
DTEND;VALUE=DATE:20231024
DTSTAMP:20260425T155350
CREATED:20230721T192949Z
LAST-MODIFIED:20230914T131029Z
UID:12722-1696204800-1698105599@solutions.cal.org
SUMMARY:CAL SIOP Training of Trainers Institute: Foundations
DESCRIPTION:October 2\, 16\, 23 and 30\, 2023 | Enhance your Sheltered Instruction Observation Protocol (SIOP) Model knowledge to support the delivery of effective professional development workshops at your school or district. Please join us for this engaging online version of our CAL SIOP TOT. \nThis comprehensive and interactive institute is designed to help participants develop and deliver SIOP Model professional development as facilitators in their school or district. \nThe SIOP Foundations Training of Trainers Institute is designed for those with a basic working knowledge of the SIOP Model through past SIOP Model workshop attendance\, self-study\, or classroom implementation. Participants will review the components of the SIOP Model and acquire knowledge and skills to help PreK-12 or adult education teachers better integrate content and language instruction for English learners as Professional Development facilitators. \nBased on an interactive flipped classroom model\, this cohort will participate in synchronous and asynchronous online learning. The synchronous portion will entail participants attending four 4.5-hour live online sessions. Through an asynchronous\, self-paced format\, participants will complete online activities that supplement the presentations. They will listen to recorded mini-lectures\, read relevant research articles\, watch and “coach” classroom videos of SIOP lessons\, apply what they learn to their coaching plans\, and interact with other participants through discussion boards and blog posts. Participants will have the opportunity to meet online with CAL facilitators weekly to discuss best practices in SIOP professional development\, network with other PD facilitators from schools around the world\, and receive small group coaching from a CAL PD coach. \nThis is the right strand for those who: \n\nHave limited or little experience with the SIOP Model and would like a review of the eight components and 30 features\nMay have attended a SIOP workshop in the past but would like to prepare to teach others about the SIOP Model\nAre interested in beginning to develop the skills of a SIOP facilitator\nAre available October 2–30\, 2023\, to complete approximately two hours of self-paced online assignments per week (to include watching videos\, reading articles\, listening to mini-lectures on SIOP components\, and planning for their own PD sessions\, etc.).\nCan join remote/teleconference sessions on the days and times listed below.\nNote: each participant must have their own device for the virtual presentation. Multiple individuals on one device will not be accommodated. \n\nPlease note: this institute is not intended for those with extensive SIOP Model knowledge. Contact CAL about the SIOP Advanced Strategies or other workshops we can bring to your school or district. Email CAL with any questions you may have about our offerings. \nAgenda\nSelf-Paced Content \n\nParticipants must complete 4 hours of self-paced\, asynchronous work in CAL’s Moodle platform.\n\nOctober 2\, 2023: 9:30 a.m. – 12:30 p.m. & 2:00–3:30 p.m. EST\n\nKey characteristics and elements of effective SIOP Model professional development workshops\nSIOP Model review with modeling of workshop activities for second language acquisition\, SIOP Model overview and research\, and the Lesson Preparation component\nAdult learning theory\nPD Planning Time\n\nOctober 16\, 2023: 9:30 a.m. – 12:30 p.m. & 2:00–3:30 p.m. EST\n\nSIOP Model review with modeling of workshop activities for the components of Building Background\, Comprehensible Input\nBest practices in virtual learning and PD\nPD Planning Time\n\nOctober 23\, 2023: 9:30 a.m. – 12:30 p.m. & 2:00–3:30 p.m. EST\n\nSIOP Model review with modeling of workshop activities for the components of Strategies and Interaction\nCharacteristics of participants and differentiation\nPD Planning Time\n\nOctober 30\, 2023: 9:30 a.m. – 12:30 p.m. & 2:00–3:30 p.m. EST\n\nSIOP Model review with modeling of workshop activities for the components of Practice/Application\, Lesson Delivery\, and Review & Assessment\nPD Planning Time\n\nSchedule\n\nFour 4.5-hour synchronous\, mini-workshop sessions\, from 9:30 a.m.-12:30 p.m. & 2–3:30 p.m. EST on October 2\, 16\, 23 and 30\, 2023\nSelf-paced\, asynchronous content approximately 2 hours per week between October 2 and October 30\nNote: the asynchronous portion will be available for one year.\n\nCost\n\nEarly bird pricing before September 15\, 2023: $1\,325 per person\nIndividual price after September 15\, 2023: $1\,525 per person.\nSend two people or more and pay $1\,325 per person.\nThe cost includes one trainer’s binder and two companion videos. If you would like the physical publications\, please register before September 4\, 2023.\nRegister early\, as space is limited.\n\nCost includes the following materials: \n\nOne binder\, Using the SIOP Model: Professional Development Manual for Sheltered Instruction\nOne digital video\, Learning the SIOP with Viewer’s Guide\nOne digital video\, Demonstrating Comprehensible Input: Mandarin Lesson\, and trainer’s materials\nTrainer’s handout packet and handout of the PowerPoint\nLinks to digital SIOP activities\n\nPlease register before September 4\, 2023\, for the timely shipment of physical publications. Videos will be available electronically. \nVenue\nThis institute will be held online through interactive web conferences and self-paced assignments to be completed in CAL’s online learning platform. \nCredit\nGraduate Credit Option \nAn option for two graduate credits from Trinity Washington University is available for this CAL Institute. The cost is $495. Participants must attend all workshop days and complete an assignment to be distributed during the institute. If you have questions about the requirements and registration for the CAL Institute graduate credits\, please contact CAL Solutions at solutions@cal.org. \nCertificate of Completion \nParticipants will receive a CAL Certificate of Completion for 28 hours\, which may be used for continuing education credit. \nParticipants will receive a Digital Badge for attendance and engagement in any professional development offering facilitated by CAL’s PK-12 Language and Literacy Unit. A badge will be issued through the Credly platform as a digital representation of an experience\, learning\, or validation gained by the end of an institute or workshop. \nCAL-Credly badges can be shared and verified online easily and securely and linked to metadata that provides context and verification. They can be shared across the Internet for maximum visibility and recognition. \nIf you have questions about digital badging at CAL\, please get in touch with us via email at credentials@cal.org or call 202-362-0700\, Monday-Friday\, 9:00 a.m. – 5:00 p.m. Eastern Time. \nRegistration\nREGISTER HERE \nPlease complete the online registration process to reserve your seat for this institute. Please be aware that your seat at the workshop will only be confirmed once payment is received. If you register multiple participants\, please have the name\, title\, school\, and email addresses available before you begin the registration process. We encourage you to register as soon as possible\, as many workshops fill up quickly. \nPayment\nBefore beginning the registration process\, please determine your preferred payment method (credit card\, check\, or purchase order). When paying by credit card using the online registration system\, your seat will be immediately confirmed\, and you will receive a confirmation email upon successful completion of the transaction. CAL accepts American Express\, Discover\, MasterCard\, and VISA. For registrations to be paid by purchase order or check\, please note that your seat will be tentatively reserved until payment is received. Once the payment is received\, you will receive a confirmation email. There will be a fee of $15.00 for each check returned as uncollectible. Purchase orders should be uploaded directly to the registration system or emailed to payables@cal.org. For payment by check or to pay for purchase orders\, please make the check payable to the Center for Applied Linguistics and mail it to: Accounts Receivable\, Center for Applied Linguistics\, 4646 40th Street NW\, Washington\, DC 20016. \nCancellation Policy\nRegistrants: We encourage participants to let CAL know as soon as possible if they do not plan to attend the session. Participants may cancel their registration and receive a full refund up to three (3) weeks before the institute start date by sending an email to solutions@cal.org. After that date\, no refunds will be available. However\, registrants may choose to receive the institute materials by mail\, postpone their attendance to a future CAL Institute\, or transfer the registration to another individual up to three (3) days before the course start date. Contact us to discuss your options. \nCAL: CAL reserves the right to cancel an event due to low enrollment or for reasons beyond our control. If we exercise this right\, we will refund any registration fees you have paid in advance. In some instances\, registrants may have the option to transfer their registration to another event. \nFair Use of Materials\nIndividuals who have completed CAL trainings and workshops have permission from CAL to use materials while providing professional development to educators in their school or school districts. These materials cannot be used to deliver fee-based services. Email CAL if you have questions about the use of CAL materials. \nQuestions?\nIf you have questions\, please contact us via email at solutions@cal.org or call 202-362-0700\, Monday–Friday\, 9:00 a.m. – 5:00 p.m. Eastern Time. \nREGISTER HERE
URL:https://solutions.cal.org/event/cal-siop-tot-foundations-oct2023/
CATEGORIES:CAL Institutes - Featured Events,CAL SIOP Training of Trainers: Foundations,Calendar of Events,Institutes Landing Page,Landing Page Featured Events,Solutions Featured Events,Solutions Institutes & Events
ATTACH;FMTTYPE=image/jpeg:https://solutions.cal.org/wp-content/uploads/2022/05/solutions-cal-siop-tot-foundations.jpg
END:VEVENT
END:VCALENDAR