BEGIN:VCALENDAR
VERSION:2.0
PRODID:-//CAL Solutions - ECPv6.15.20//NONSGML v1.0//EN
CALSCALE:GREGORIAN
METHOD:PUBLISH
X-WR-CALNAME:CAL Solutions
X-ORIGINAL-URL:https://solutions.cal.org
X-WR-CALDESC:Events for CAL Solutions
REFRESH-INTERVAL;VALUE=DURATION:PT1H
X-Robots-Tag:noindex
X-PUBLISHED-TTL:PT1H
BEGIN:VTIMEZONE
TZID:UTC
BEGIN:STANDARD
TZOFFSETFROM:+0000
TZOFFSETTO:+0000
TZNAME:UTC
DTSTART:20190101T000000
END:STANDARD
END:VTIMEZONE
BEGIN:VEVENT
DTSTART;VALUE=DATE:20200204
DTEND;VALUE=DATE:20200208
DTSTAMP:20260421T225612
CREATED:20220112T134658Z
LAST-MODIFIED:20220112T134658Z
UID:4077-1580774400-1581119999@solutions.cal.org
SUMMARY:National ESEA Conference
DESCRIPTION:CAL Presentations: \nESSA and ELs – Progress and Pitfalls\nFriday\, February 7 – 9:30 am – 10:30 am\nOne of the purposes of the reauthorized ESEA as the Every Student Succeeds Act (ESSA) is flexibility for States especially in regard to their accountability systems. Recognizing that all States have a year or more of implementation of their systems underway\, the presentation will highlight progress and pitfalls in the systems for the English Learner (EL) population. The presentation will also address of the impact of moving the accountability requirements for ELs from Title III to Title I and whether ESSA has moved the needle for multilingual/multicultural learners.
URL:https://solutions.cal.org/event/esea-2020/
LOCATION:Atlanta\, GA
CATEGORIES:Calendar of Events
ATTACH;FMTTYPE=:
END:VEVENT
END:VCALENDAR