BEGIN:VCALENDAR
VERSION:2.0
PRODID:-//CAL Solutions - ECPv6.15.20//NONSGML v1.0//EN
CALSCALE:GREGORIAN
METHOD:PUBLISH
X-WR-CALNAME:CAL Solutions
X-ORIGINAL-URL:https://solutions.cal.org
X-WR-CALDESC:Events for CAL Solutions
REFRESH-INTERVAL;VALUE=DURATION:PT1H
X-Robots-Tag:noindex
X-PUBLISHED-TTL:PT1H
BEGIN:VTIMEZONE
TZID:UTC
BEGIN:STANDARD
TZOFFSETFROM:+0000
TZOFFSETTO:+0000
TZNAME:UTC
DTSTART:20190101T000000
END:STANDARD
END:VTIMEZONE
BEGIN:VEVENT
DTSTART;VALUE=DATE:20200220
DTEND;VALUE=DATE:20200229
DTSTAMP:20260421T212037
CREATED:20220112T135913Z
LAST-MODIFIED:20220112T135913Z
UID:4089-1582156800-1582934399@solutions.cal.org
SUMMARY:National Association for Bilingual Education Annual Conference
DESCRIPTION:Visit the Website \nCAL Presentations\n\nPara-Educators as Instructional Partners with English Learners and Emergent Bilinguals Marybelle Marrero-Colón\nRTI/MTSS Implementation: Identifying & Supporting English Learner Academic Achievement Marybelle Marrero-Colón
URL:https://solutions.cal.org/event/nabe-2020/
LOCATION:Las Vegas\, NV
CATEGORIES:Calendar of Events
ATTACH;FMTTYPE=:
END:VEVENT
END:VCALENDAR