BEGIN:VCALENDAR
VERSION:2.0
PRODID:-//CAL Solutions - ECPv6.15.20//NONSGML v1.0//EN
CALSCALE:GREGORIAN
METHOD:PUBLISH
X-WR-CALNAME:CAL Solutions
X-ORIGINAL-URL:https://solutions.cal.org
X-WR-CALDESC:Events for CAL Solutions
REFRESH-INTERVAL;VALUE=DURATION:PT1H
X-Robots-Tag:noindex
X-PUBLISHED-TTL:PT1H
BEGIN:VTIMEZONE
TZID:UTC
BEGIN:STANDARD
TZOFFSETFROM:+0000
TZOFFSETTO:+0000
TZNAME:UTC
DTSTART:20150101T000000
END:STANDARD
END:VTIMEZONE
BEGIN:VEVENT
DTSTART;VALUE=DATE:20160428
DTEND;VALUE=DATE:20160501
DTSTAMP:20260421T084750
CREATED:20220112T185423Z
LAST-MODIFIED:20220112T185423Z
UID:4300-1461801600-1462060799@solutions.cal.org
SUMMARY:National Chinese Language Conference 2016
DESCRIPTION:Visit the Website \n\nCAL Presentations\n\nCAL K–8 Formative and Summative Oral Proficiency Assessment \, Jing Wei\, PhD\nConceptualizing and Developing a Rubric for Assessing Chinese Pragmatic Competence Jing Wei\, PhD
URL:https://solutions.cal.org/event/nclc-2016/
LOCATION:Chicago\, IL
CATEGORIES:Calendar of Events
ATTACH;FMTTYPE=:
END:VEVENT
END:VCALENDAR