BEGIN:VCALENDAR
VERSION:2.0
PRODID:-//CAL Solutions - ECPv6.15.20//NONSGML v1.0//EN
CALSCALE:GREGORIAN
METHOD:PUBLISH
X-WR-CALNAME:CAL Solutions
X-ORIGINAL-URL:https://solutions.cal.org
X-WR-CALDESC:Events for CAL Solutions
REFRESH-INTERVAL;VALUE=DURATION:PT1H
X-Robots-Tag:noindex
X-PUBLISHED-TTL:PT1H
BEGIN:VTIMEZONE
TZID:UTC
BEGIN:STANDARD
TZOFFSETFROM:+0000
TZOFFSETTO:+0000
TZNAME:UTC
DTSTART:20250101T000000
END:STANDARD
END:VTIMEZONE
BEGIN:VEVENT
DTSTART;VALUE=DATE:20260714
DTEND;VALUE=DATE:20260717
DTSTAMP:20260421T230056
CREATED:20251027T152019Z
LAST-MODIFIED:20251027T200846Z
UID:14457-1783987200-1784246399@solutions.cal.org
SUMMARY:Spanish-English Biliteracy Instruction: Foundations
DESCRIPTION:Enhance your knowledge of linguistic differences between Spanish and English and their impact on language and literacy instruction for emergent multilingual learners! \nParticipants will learn research-based strategies for effective language and literacy instruction in programs where content is delivered in Spanish and English\, such as dual language and transitional bilingual education programs. \nThis interactive institute\, formerly known as Language and Literacy Instruction for Emergent Bilingual Learners\, is designed to provide participants with research-based\, effective methods for teaching academic language and literacy to students in grades K-8 in programs in which students are afforded the opportunity to learn in both Spanish and English. Classroom practices are framed by an understanding of how Spanish and English linguistic features are the same and different. \nThe 12-hour institute will provide both live (synchronous) and asynchronous (on-your-own) online learning and take place over several days. It will include: \n\nWorkshop/webinar sessions with CAL facilitators to understand and discuss effective practice as well as network with other educators with similar priorities\nA culminating project in which participants plan a lesson based on what they have learned.\n\nLearning Outcomes \nParticipants will be able to: \n\nexplain why knowledge of the systems is important for teaching in bilingual settings\nidentify systems and structures of Spanish as compared with English\ndescribe cross-linguistic practices\nuse methods for teaching students the similarities and differences between languages to promote metalinguistic awareness\n\nWho Should Attend \nThis institute is designed for K–8 educators who teach in Spanish-English dual language\, transitional bilingual\, or other bilingual program settings. Classroom teachers\, interventionists\, and specialists who support biliteracy development will benefit from the research-based strategies and practical tools provided. Instructional coaches\, school-based teams\, and administrators who oversee or support multilingual learner programs are also encouraged to attend. \nQuestions? Email CAL with any questions you may have about our offerings. \nCurriculum Overview \nThe following provides an overview of the institute topics. Practical classroom-based instructional strategies are embedded throughout the presentation. All materials will be available electronically each day of the institute\, including the daily presentation handout\, activities\, and resource links. \nThe Context for Spanish Language and Literacy Instruction \n\nParticipant introductions\nThe Guiding Principles for Dual Language Education (3rd edition)\nCurrent trends in the research on biliteracy instruction in the U.S. educational context\nUnderstanding the value for students of comparing and contrasting Spanish and English\n\nDeveloping Awareness of Similarities and Differences between Spanish and English \n\nBuilding metalinguistic awareness to promote cross-linguistic transfer\nExamining similarities and differences between the languages related to\n\nPragmatics (discourse level language)\nSyntax (sentence structure)\nSemantics (words and word parts\, cognates)\nPhonology and orthography (sound-letter correspondences)\n\n\nAssessing language production holistically\n\nPlease note: Sessions take place each day from 11:00 a.m.–4:00 p.m. Eastern Time with a scheduled break from 1:00 – 2:00 p.m. \nDay 1: Tuesday\, July 14 \n\nThe Context for Language and Literacy Instruction in a Spanish/English Dual Language Program\nDeveloping Awareness of Similarities and Differences between Spanish and English – Part I\n\nDay 2: Wednesday\, July 15 \n\nDeveloping Awareness of Similarities and Differences between Spanish and English – Part II\nDeveloping Awareness of Similarities and Differences between Spanish and English – Part III\n\nDay 3: Thursday\, July 16 \n\nDeveloping Awareness of Similarities and Differences between Spanish and English – Part IV\nAssessing Writing Holistically and Project Presentations\n\nSelf-Paced Content \nThe institute will include a 3-hour self-paced assignment. \nCost\n\nEarly bird pricing (individual or group of 2+): $720 per person if registered by June 30\, 2026\nStandard individual rate: $780 per person for registrations after June 30\, 2026\nGroups of 2 or more qualify for the early bird rate of $720 per person\nCost includes all digital training materials and one-year access to course content\nRegister early—space is limited\nRegistration closes on July 7\, 2026\n\nVenue\nThis Institute will be held online. \nCertificate of Completion\nParticipants will earn a CAL Credly Digital badge and certificate for 15 hours of participation issued through the Credly platform\, recognizing full participation and engagement in the institute. This badge serves as a verifiable digital credential that can be shared across professional networks and includes metadata outlining the scope of learning. Participants who choose not to complete the on-own assignment but attend all sessions will receive a certificate for 12 hours. \nCAL-Credly badges offer a secure and portable way to showcase your professional development. \nFor questions about digital badging at CAL\, contact us at credentialing@cal.org or call 202-362-0700\, Monday–Friday\, 9:00 AM – 5:00 PM ET. \nPolicies\nRegistration \nTo reserve your seat for this institute\, please complete the online registration process. Please be aware that your seat at the workshop will only be confirmed once payment is received. If you are registering multiple participants\, please have the name\, title\, school\, and email addresses available before you begin the registration process. We encourage you to register as soon as possible as many workshops fill up quickly. \nPayment \nCAL accepts credit cards (Visa\, MasterCard\, Discover\, AmEx)\, checks\, and purchase orders. Credit card payments confirm registration immediately. For purchase orders (POs) or checks\, seats are tentatively held until payment is received. Upload POs during registration or email them to payables@cal.org. A $15 fee applies for returned checks. \nMail checks to: \nCenter for Applied Linguistics\nAccounts Receivable\n4646 40th Street NW\nWashington\, DC 20016 \nCancellation Policy \nYou may cancel and receive a full refund up to 3 weeks before the institute by emailing solutions@cal.org. After that\, refunds are not available\, but you may request materials by mail\, transfer to a future institute\, or substitute another participant up to 3 days before the start date. \nCAL may cancel or reschedule events due to low enrollment or unforeseen circumstances. In such cases\, full refunds will be issued. \nFair Use of Materials \nParticipants may use CAL materials for internal school or district training. Use for fee-based services is not permitted. Contact CAL for clarification if needed. \nQuestions? \nIf you have questions\, please contact us via email at solutions@cal.org or call 202-362-0700\, Monday-Friday\, 9 am – 5 pm Eastern Time.
URL:https://solutions.cal.org/event/spanish-english-biliteracy-instruction-foundations-july26/
CATEGORIES:Bilingual and Dual Language Education,CAL Institutes - Featured Events,Calendar of Events,Solutions Featured Events,Solutions Institutes & Events,SP/EN Biliteracy Instruction: Foundations
ATTACH;FMTTYPE=image/jpeg:https://solutions.cal.org/wp-content/uploads/2022/06/spanish-literacy.jpg
END:VEVENT
END:VCALENDAR