BEGIN:VCALENDAR
VERSION:2.0
PRODID:-//CAL Solutions - ECPv6.15.20//NONSGML v1.0//EN
CALSCALE:GREGORIAN
METHOD:PUBLISH
X-WR-CALNAME:CAL Solutions
X-ORIGINAL-URL:https://solutions.cal.org
X-WR-CALDESC:Events for CAL Solutions
REFRESH-INTERVAL;VALUE=DURATION:PT1H
X-Robots-Tag:noindex
X-PUBLISHED-TTL:PT1H
BEGIN:VTIMEZONE
TZID:UTC
BEGIN:STANDARD
TZOFFSETFROM:+0000
TZOFFSETTO:+0000
TZNAME:UTC
DTSTART:20180101T000000
END:STANDARD
END:VTIMEZONE
BEGIN:VEVENT
DTSTART;VALUE=DATE:20190215
DTEND;VALUE=DATE:20190219
DTSTAMP:20260423T003453
CREATED:20220112T143212Z
LAST-MODIFIED:20220112T143212Z
UID:4112-1550188800-1550534399@solutions.cal.org
SUMMARY:WIDA National Conference 2019
DESCRIPTION:Rhode Island Convention Center \nVisit the Website \nCAL Presentations\n\nComplexity\, Proficiency\, and Difficulty: Unpacking the WIDA Performance Definitions Justin R. Kelly\, PhD\, \,\nExamining and Assessing the Language of Social Studies \, \, Justin R. Kelly\, PhD\nTactical Teacher Moves to Address Language Opportunity Gaps in Content Maria Cieslak\nUnderstanding How the ACCESS Speaking Test is Scored Megan Montee\, PhD\nUsing the Key Uses to Develop IEP Goals for ELs Marybelle Marrero-Colón
URL:https://solutions.cal.org/event/wida-2019/
LOCATION:Providence\, RI
CATEGORIES:Calendar of Events
ATTACH;FMTTYPE=:
END:VEVENT
END:VCALENDAR